BEGIN:VCALENDAR
VERSION:2.0
PRODID:-//Sabre//Sabre VObject 4.5.8//EN
CALSCALE:GREGORIAN
BEGIN:VEVENT
UID:11863@muncieevents.com
DTSTAMP:20260425T145133Z
CATEGORIES:Activism
COMMENT:Info source: https://www.beautifulmuncie.org/white-river-clean-up
CONTACT:shawnmuncie@aol.com
DTSTART;TZID=AMERICA/INDIANA/INDIANAPOLIS:20260919T080000
DESCRIPTION:Join us for our largest single day event in Delaware County!\n\
 nEach September\, thousands of volunteers come together to clean 135 miles
  of White River - Removing trash\, debris\, and tries from the banks and w
 aterways. Since 2006\, this event has pulled over 150\,000 pounds of waste
  from the river. Volunteers work on foot along the banks and by canoe wher
 e needed.\n\nAll are welcome.\n\nHosted by the Delaware County Clean and B
 eautiful as part of the statewide White River Festival
LOCATION:Westside Park (801 S. Nichols Ave. and 2400 W. White River Blvd)
SUMMARY:2026 White River Clean-up
URL;VALUE=URI:https://muncieevents.com/event/11863
END:VEVENT
END:VCALENDAR
