BEGIN:VCALENDAR
VERSION:2.0
PRODID:-//Sabre//Sabre VObject 4.5.8//EN
CALSCALE:GREGORIAN
BEGIN:VEVENT
UID:11852@muncieevents.com
DTSTAMP:20260422T104514Z
CATEGORIES:Art
COMMENT:
CONTACT:mbarry@minnetrista.net
DTSTART;TZID=AMERICA/INDIANA/INDIANAPOLIS:20260616T090000
DESCRIPTION:June 16–18\; 9 a.m.–Noon\nCost: $150 | Member Discounts App
 ly\nRegistration Deadline: June 12\, 2026\n\nLunch Not Provided. Ages 9–
 11 years old.\n\nCreate your own happy little world! This fun and engaging
  camp invites artists to explore painting through the joyful style of Bob 
 Ross. Campers will learn basic techniques\, experiment with color and text
 ure\, and bring beautiful landscapes to life—embracing Bob’s belief th
 at there are no mistakes\, only happy little accidents. Each day\, our hap
 py little painters will grow their skills and creativity while having fun 
 in the process.\n\nFood &amp\; Medical Information\nBefore registering\, p
 lease email knickel@minnetrista.net with any food allergies or dietary res
 trictions. Some accommodations can be made\; however\, we are unable to ac
 commodate severe allergies (including gluten or nut). Minnetrista is also 
 unable to store or administer medication.\n\nhttps://www.minnetrista.net/e
 vents/bob-ross-kids-camp-2026.\n\n&nbsp\;
LOCATION:Minnetrista Museum & Gardens\, L.L. Ball Home (1200 N Minnetrista 
 Pkwy  Muncie\, IN 47303)
SUMMARY:Mini-Camp Minnetrista: Bob Ross Kids
URL;VALUE=URI:https://muncieevents.com/event/11852
END:VEVENT
END:VCALENDAR
